BEGIN:VCALENDAR
VERSION:2.0
PRODID:-//Plasmatec Institut - ECPv6.15.20//NONSGML v1.0//EN
CALSCALE:GREGORIAN
METHOD:PUBLISH
X-WR-CALNAME:Plasmatec Institut
X-ORIGINAL-URL:https://www.plasmatecinstitut.com
X-WR-CALDESC:Veranstaltungen für Plasmatec Institut
REFRESH-INTERVAL;VALUE=DURATION:PT1H
X-Robots-Tag:noindex
X-PUBLISHED-TTL:PT1H
BEGIN:VTIMEZONE
TZID:Europe/Vienna
BEGIN:DAYLIGHT
TZOFFSETFROM:+0100
TZOFFSETTO:+0200
TZNAME:CEST
DTSTART:20230326T010000
END:DAYLIGHT
BEGIN:STANDARD
TZOFFSETFROM:+0200
TZOFFSETTO:+0100
TZNAME:CET
DTSTART:20231029T010000
END:STANDARD
BEGIN:DAYLIGHT
TZOFFSETFROM:+0100
TZOFFSETTO:+0200
TZNAME:CEST
DTSTART:20240331T010000
END:DAYLIGHT
BEGIN:STANDARD
TZOFFSETFROM:+0200
TZOFFSETTO:+0100
TZNAME:CET
DTSTART:20241027T010000
END:STANDARD
BEGIN:DAYLIGHT
TZOFFSETFROM:+0100
TZOFFSETTO:+0200
TZNAME:CEST
DTSTART:20250330T010000
END:DAYLIGHT
BEGIN:STANDARD
TZOFFSETFROM:+0200
TZOFFSETTO:+0100
TZNAME:CET
DTSTART:20251026T010000
END:STANDARD
END:VTIMEZONE
BEGIN:VEVENT
DTSTART;TZID=Europe/Vienna:20240405T183000
DTEND;TZID=Europe/Vienna:20240405T210000
DTSTAMP:20260420T111952
CREATED:20240401T102519Z
LAST-MODIFIED:20240401T103035Z
UID:3743-1712341800-1712350800@www.plasmatecinstitut.com
SUMMARY:Vortrag Autarkie mit Hausspeicher - St. Johann
DESCRIPTION:Der Kostengünstige Weg in die Autarkie durch Hausspeicher\nThemen wie: \n\nBatterierefreshing\ndas 2. Leben gebrauchter Batterien\nund gebrauchter Photovoltaik-Module\nalternative Technologien\nNotstromvorsorge und\nBlackoutvorsorge\n\nwerden hier durch den Experten und Referent Harald Reichl vorgestellt und aufgezeigt. \nUm Anmeldung über das Anmeldeformular online wird erbeten\, gerne auch unter welcome@plasmatecinstitut.com \nReferent Harald Reichl\, Unternehmer und gemeinnütziger Präsident des PLASMA TEC FORSCHUNGS INSTITUT freut sich über Ihren Besuch. \n \nWeitere Informationen unter www.plasmatecinstitut.com\nBesuchen Sie uns auch auf www.rechargeakademie.org \n 
URL:https://www.plasmatecinstitut.com/event/autarkie-mit-hausspeicher/
LOCATION:Packerstraße 185\, 8561 Söding
CATEGORIES:Hausspeicher,Veranstaltungen,Vortrag
ATTACH;FMTTYPE=image/jpeg:https://www.plasmatecinstitut.com/wp-content/uploads/2024/04/Vortra-05-April-St.-Johann.jpg
ORGANIZER;CN="PLASMATEC FORSCHUNGS INSTITUT":MAILTO:welcome@plasmatecinstitut.com
END:VEVENT
END:VCALENDAR