BEGIN:VCALENDAR
VERSION:2.0
PRODID:-//Plasmatec Institut - ECPv6.15.20//NONSGML v1.0//EN
CALSCALE:GREGORIAN
METHOD:PUBLISH
X-ORIGINAL-URL:https://www.plasmatecinstitut.com
X-WR-CALDESC:Veranstaltungen für Plasmatec Institut
REFRESH-INTERVAL;VALUE=DURATION:PT1H
X-Robots-Tag:noindex
X-PUBLISHED-TTL:PT1H
BEGIN:VTIMEZONE
TZID:Europe/Vienna
BEGIN:DAYLIGHT
TZOFFSETFROM:+0100
TZOFFSETTO:+0200
TZNAME:CEST
DTSTART:20230326T010000
END:DAYLIGHT
BEGIN:STANDARD
TZOFFSETFROM:+0200
TZOFFSETTO:+0100
TZNAME:CET
DTSTART:20231029T010000
END:STANDARD
BEGIN:DAYLIGHT
TZOFFSETFROM:+0100
TZOFFSETTO:+0200
TZNAME:CEST
DTSTART:20240331T010000
END:DAYLIGHT
BEGIN:STANDARD
TZOFFSETFROM:+0200
TZOFFSETTO:+0100
TZNAME:CET
DTSTART:20241027T010000
END:STANDARD
BEGIN:DAYLIGHT
TZOFFSETFROM:+0100
TZOFFSETTO:+0200
TZNAME:CEST
DTSTART:20250330T010000
END:DAYLIGHT
BEGIN:STANDARD
TZOFFSETFROM:+0200
TZOFFSETTO:+0100
TZNAME:CET
DTSTART:20251026T010000
END:STANDARD
END:VTIMEZONE
BEGIN:VEVENT
DTSTART;TZID=Europe/Vienna:20240713T080000
DTEND;TZID=Europe/Vienna:20240714T180000
DTSTAMP:20260422T114803
CREATED:20240218T140446Z
LAST-MODIFIED:20240703T092047Z
UID:3685-1720857600-1720980000@www.plasmatecinstitut.com
SUMMARY:ReEMF 2-Tages-Workshop
DESCRIPTION:ReEMF 2-Tages-Workshop\nPTFI wird Dir in mehreren\, theoretischen Teilen hochwertiges Wissen vermitteln und anschliessend\ndirekt in der Praxis anwenden.\nDu wirst dabei von erfahrenen Menschen begleitet\, die über tausende Stunden (Theorie & Praxis)\nfundamentales Wissen angesammelt haben um es Dir in diesen 2 Tagen bestmöglich zu\nvermitteln. \nDas Ziel ist es\, dass Du danach für Dich selbst 2 hochwertige Geräte als Basis für weitere\nForschung & Entwicklungen zur Nutzung mit nach Hause nehmen kannst.\nPTFI wird Dir zeigen\, wie Du aus defekten Laptop-\, Akkuschrauber-\, E-Zahnbürsten\, E-Zigaretten\nusw… \n \nStart: 8.00 Uhr bei einem gemeinsamen Frühstück \nWeitere Termine: plasmatecinstitut.com/event\nSchau gerne auch bei RECHARGE AKADEMIE vorbei \nWorkshop\, Refreshing\, ReEMF\, refreshen
URL:https://www.plasmatecinstitut.com/event/reemf-2-tages-workshop-top/
LOCATION:PLASMATEC FORSCHUNGS INSTITUT\, St. Andrä 71\, St. Andrä\, Kärnten\, 9433\, Austria
CATEGORIES:18650er,2-Tages-Workshop,ReEFM,Workshop
ORGANIZER;CN="PLASMATEC FORSCHUNGS INSTITUT":MAILTO:welcome@plasmatecinstitut.com
END:VEVENT
BEGIN:VEVENT
DTSTART;TZID=Europe/Vienna:20240720T080000
DTEND;TZID=Europe/Vienna:20240720T180000
DTSTAMP:20260422T114803
CREATED:20240515T070214Z
LAST-MODIFIED:20240527T075941Z
UID:3964-1721462400-1721498400@www.plasmatecinstitut.com
SUMMARY:Hausspeicher Workshop Juli
DESCRIPTION:Hausspeicher 1-Tages-Workshop\nDas gemeinnützige PLASMA TEC Forschungsinstitut (PTFI) wird diesen Workshop\ndurchführen. PLASFOUR fördert und unterstützt die Aktivitäten mit Marketingkampagnen.\nPTFI wird Dir in mehreren\, theoretischen Teilen hochwertiges Wissen vermitteln und anschliessend\ndirekt in der Praxis anwenden. \n \n  \nDas Ziel ist es\, dass Du danach für Dich selbst einen Hausspeicher planen kannst und viele\nArbeitsschritte selbst durchführen kannst. Man kann dadurch enorm viel Geld einsparen! \nWICHTIG: Es werden KEINE TECHNISCHEN Kenntnisse vorausgesetzt! \nStart: 8.00 Uhr (zum gemeinsamen Frühstück) \nAlle weiteren Termine >>> https://www.plasmatecinstitut.com/event/PLASMA TEC FORSCHUNG ALLE TERMINE\nBesuche auch unser neues Projekt: RECHARGE AKADEMIE
URL:https://www.plasmatecinstitut.com/event/hausspeicher-workshop-juli/
LOCATION:PLASMATEC FORSCHUNGS INSTITUT\, St. Andrä 71\, St. Andrä\, Kärnten\, 9433\, Austria
CATEGORIES:1-TagesWorkshop,18650er,Hausspeicher,Refreshing,Workshop
ATTACH;FMTTYPE=image/jpeg:https://www.plasmatecinstitut.com/wp-content/uploads/2021/10/hausspeicher-modul.jpg
ORGANIZER;CN="PLASMATEC FORSCHUNGS INSTITUT":MAILTO:welcome@plasmatecinstitut.com
END:VEVENT
END:VCALENDAR