BEGIN:VCALENDAR
VERSION:2.0
PRODID:-//Plasmatec Institut - ECPv6.15.20//NONSGML v1.0//EN
CALSCALE:GREGORIAN
METHOD:PUBLISH
X-WR-CALNAME:Plasmatec Institut
X-ORIGINAL-URL:https://www.plasmatecinstitut.com
X-WR-CALDESC:Veranstaltungen für Plasmatec Institut
REFRESH-INTERVAL;VALUE=DURATION:PT1H
X-Robots-Tag:noindex
X-PUBLISHED-TTL:PT1H
BEGIN:VTIMEZONE
TZID:Europe/Vienna
BEGIN:DAYLIGHT
TZOFFSETFROM:+0100
TZOFFSETTO:+0200
TZNAME:CEST
DTSTART:20230326T010000
END:DAYLIGHT
BEGIN:STANDARD
TZOFFSETFROM:+0200
TZOFFSETTO:+0100
TZNAME:CET
DTSTART:20231029T010000
END:STANDARD
BEGIN:DAYLIGHT
TZOFFSETFROM:+0100
TZOFFSETTO:+0200
TZNAME:CEST
DTSTART:20240331T010000
END:DAYLIGHT
BEGIN:STANDARD
TZOFFSETFROM:+0200
TZOFFSETTO:+0100
TZNAME:CET
DTSTART:20241027T010000
END:STANDARD
BEGIN:DAYLIGHT
TZOFFSETFROM:+0100
TZOFFSETTO:+0200
TZNAME:CEST
DTSTART:20250330T010000
END:DAYLIGHT
BEGIN:STANDARD
TZOFFSETFROM:+0200
TZOFFSETTO:+0100
TZNAME:CET
DTSTART:20251026T010000
END:STANDARD
END:VTIMEZONE
BEGIN:VEVENT
DTSTART;TZID=Europe/Vienna:20240127T080000
DTEND;TZID=Europe/Vienna:20240127T180000
DTSTAMP:20260422T220550
CREATED:20231025T082245Z
LAST-MODIFIED:20231025T082245Z
UID:3490-1706342400-1706378400@www.plasmatecinstitut.com
SUMMARY:Hausspeicher Workshop
DESCRIPTION:Hausspeicher 1-Tages-Workshop\nDas gemeinnützige PLASMA TEC Forschungsinstitut (PTFI) wird diesen Workshop\ndurchführen. PLASFOUR fördert und unterstützt die Aktivitäten mit Marketingkampagnen.\nPTFI wird Dir in mehreren\, theoretischen Teilen hochwertiges Wissen vermitteln und anschliessend\ndirekt in der Praxis anwenden. \nDas Ziel ist es\, dass Du danach für Dich selbst einen Hausspeicher planen kannst und viele\nArbeitsschritte selbst durchführen kannst. Man kann dadurch enorm viel Geld einsparen! \nWICHTIG: Es werden KEINE TECHNISCHEN Kenntnisse vorausgesetzt! \nStart: 8.00 Uhr (zum gemeinsamen Frühstück)
URL:https://www.plasmatecinstitut.com/event/hausspeicher-workshop-2024/
LOCATION:PLASMATEC FORSCHUNGS INSTITUT\, St. Andrä 71\, St. Andrä\, Kärnten\, 9433\, Austria
CATEGORIES:1-TagesWorkshop,18650er,Hausspeicher,Refreshing,Workshop
ATTACH;FMTTYPE=image/jpeg:https://www.plasmatecinstitut.com/wp-content/uploads/2021/10/hausspeicher-modul.jpg
ORGANIZER;CN="PLASMATEC FORSCHUNGS INSTITUT":MAILTO:welcome@plasmatecinstitut.com
END:VEVENT
END:VCALENDAR